BEGIN:VCALENDAR
VERSION:2.0
PRODID:-//NEW ORLEANS MUSIC &amp; ARTIST STUDIO - ECPv6.15.20//NONSGML v1.0//EN
CALSCALE:GREGORIAN
METHOD:PUBLISH
X-WR-CALNAME:NEW ORLEANS MUSIC &amp; ARTIST STUDIO
X-ORIGINAL-URL:https://algiersmastudio.com
X-WR-CALDESC:Events for NEW ORLEANS MUSIC &amp; ARTIST STUDIO
REFRESH-INTERVAL;VALUE=DURATION:PT1H
X-Robots-Tag:noindex
X-PUBLISHED-TTL:PT1H
BEGIN:VTIMEZONE
TZID:America/Denver
BEGIN:DAYLIGHT
TZOFFSETFROM:-0700
TZOFFSETTO:-0600
TZNAME:MDT
DTSTART:20240310T090000
END:DAYLIGHT
BEGIN:STANDARD
TZOFFSETFROM:-0600
TZOFFSETTO:-0700
TZNAME:MST
DTSTART:20241103T080000
END:STANDARD
BEGIN:DAYLIGHT
TZOFFSETFROM:-0700
TZOFFSETTO:-0600
TZNAME:MDT
DTSTART:20250309T090000
END:DAYLIGHT
BEGIN:STANDARD
TZOFFSETFROM:-0600
TZOFFSETTO:-0700
TZNAME:MST
DTSTART:20251102T080000
END:STANDARD
BEGIN:DAYLIGHT
TZOFFSETFROM:-0700
TZOFFSETTO:-0600
TZNAME:MDT
DTSTART:20260308T090000
END:DAYLIGHT
BEGIN:STANDARD
TZOFFSETFROM:-0600
TZOFFSETTO:-0700
TZNAME:MST
DTSTART:20261101T080000
END:STANDARD
END:VTIMEZONE
BEGIN:VEVENT
DTSTART;TZID=America/Denver:20250402T153000
DTEND;TZID=America/Denver:20250402T170000
DTSTAMP:20260422T034847
CREATED:20250310T190127Z
LAST-MODIFIED:20250310T190127Z
UID:3861-1743607800-1743613200@algiersmastudio.com
SUMMARY:After School Music Class - Horns and Percussion Edition
DESCRIPTION:
URL:https://algiersmastudio.com/event/after-school-music-class1/
LOCATION:AMAS\, 935 Teche Street\, New Orleans\, LA\, 70114\, United States
ORGANIZER;CN="Algiers Music & Artists Studio":MAILTO:support@algiersmastudio.com
END:VEVENT
BEGIN:VEVENT
DTSTART;TZID=America/Denver:20250409T153000
DTEND;TZID=America/Denver:20250409T170000
DTSTAMP:20260422T034847
CREATED:20250310T190326Z
LAST-MODIFIED:20250310T190326Z
UID:3864-1744212600-1744218000@algiersmastudio.com
SUMMARY:After School Music Class - Horns and Percussion Edition
DESCRIPTION:
URL:https://algiersmastudio.com/event/after-school-music-class2/
LOCATION:AMAS\, 935 Teche Street\, New Orleans\, LA\, 70114\, United States
ORGANIZER;CN="Algiers Music & Artists Studio":MAILTO:support@algiersmastudio.com
END:VEVENT
BEGIN:VEVENT
DTSTART;TZID=America/Denver:20250412T090000
DTEND;TZID=America/Denver:20250412T100000
DTSTAMP:20260422T034847
CREATED:20250114T201959Z
LAST-MODIFIED:20250114T211504Z
UID:3683-1744448400-1744452000@algiersmastudio.com
SUMMARY:Vibe Check Youth Group for Kids 9-12 Years of Age
DESCRIPTION:The AMAS Foundation and P.I.N.K. Solutions\, PLLC \nPresent \nVibe Check\nToday’s Class \nWhat is ADHD?\nWays to Cope\n  \nSignup at: http://eepurl.com/i0r1UM \nAre You Ready to Vibe with Us?  \nWelcome to Vibe Check\, the ultimate youth group designed to empower\, educate\, and elevate young minds. Our mission is to provide a safe and supportive space where youth can explore their emotions\, build resilience\, and develop essential life skills through psychoeducation. \nWhy Join Vibe Check? \n\nEmpowerment: Gain the tools and knowledge to navigate life’s challenges with confidence.\nCommunity: Connect with like-minded peers who share your journey and support each other.\nGrowth: Learn from experienced facilitators who are passionate about youth development.\nFun: Engage in interactive activities\, workshops\, and discussions that make learning enjoyable.\n\nOur Instructor: \nCarmen E. Haskins\, LCSW\, LCSW-C\, CCTP\, CTMH\nCarmen is a Clinical Social Worker Specialist with many years of experience providing mental health services to youth and their families. She graduated with honors in 2010 with a Master of Social Work. Carmen has more than 14 years of diverse experiences\, with a particular focus on healing from trauma and abuse. Populations served include but are not limited to PTSD\, Anxiety\, LGBTQ+\, relationship/marital issues\, depression\, and managing stress. Carmen is the owner of P. I. N. K Solutions where psychoanalytical innovation neutralizes chaos (k). P.I.N.K Solutions’ purpose is to provide rejuvenation to the mind\, body\, and spirit of people in the community. She is available to provide therapy to all ages with the youngest being 5. Carmen is also the author of the self-help book “Secrets Kill: Come out of the Darkness.”  \n 
URL:https://algiersmastudio.com/event/vibe-check-youth-group-for-kids-9-12-years-of-age-6/
LOCATION:AMAS\, 935 Teche Street\, New Orleans\, LA\, 70114\, United States
ORGANIZER;CN="Algiers Music & Artists Studio":MAILTO:support@algiersmastudio.com
END:VEVENT
BEGIN:VEVENT
DTSTART;TZID=America/Denver:20250412T103000
DTEND;TZID=America/Denver:20250412T113000
DTSTAMP:20260422T034847
CREATED:20250114T202133Z
LAST-MODIFIED:20250114T211602Z
UID:3685-1744453800-1744457400@algiersmastudio.com
SUMMARY:Vibe Check Group for Teens 13-17 Years of Age
DESCRIPTION:The AMAS Foundation and P.I.N.K. Solutions\, PLLC \nPresent \nVibe Check\nToday’s Class \nWhat is ADHD?\nWays to Cope\n  \nSignup at: http://eepurl.com/i0r1UM \nAre You Ready to Vibe with Us?  \nWelcome to Vibe Check\, the ultimate youth group designed to empower\, educate\, and elevate young minds. Our mission is to provide a safe and supportive space where youth can explore their emotions\, build resilience\, and develop essential life skills through psychoeducation. \nWhy Join Vibe Check? \n\nEmpowerment: Gain the tools and knowledge to navigate life’s challenges with confidence.\nCommunity: Connect with like-minded peers who share your journey and support each other.\nGrowth: Learn from experienced facilitators who are passionate about youth development.\nFun: Engage in interactive activities\, workshops\, and discussions that make learning enjoyable.\n\nOur Instructor: \nCarmen E. Haskins\, LCSW\, LCSW-C\, CCTP\, CTMH\nCarmen is a Clinical Social Worker Specialist with many years of experience providing mental health services to youth and their families. She graduated with honors in 2010 with a Master of Social Work. Carmen has more than 14 years of diverse experiences\, with a particular focus on healing from trauma and abuse. Populations served include but are not limited to PTSD\, Anxiety\, LGBTQ+\, relationship/marital issues\, depression\, and managing stress. Carmen is the owner of P. I. N. K Solutions where psychoanalytical innovation neutralizes chaos (k). P.I.N.K Solutions’ purpose is to provide rejuvenation to the mind\, body\, and spirit of people in the community. She is available to provide therapy to all ages with the youngest being 5. Carmen is also the author of the self-help book “Secrets Kill: Come out of the Darkness.”  \n 
URL:https://algiersmastudio.com/event/vibe-check-group-for-teens-13-17-years-of-age-6/
LOCATION:AMAS\, 935 Teche Street\, New Orleans\, LA\, 70114\, United States
ORGANIZER;CN="Algiers Music & Artists Studio":MAILTO:support@algiersmastudio.com
END:VEVENT
BEGIN:VEVENT
DTSTART;TZID=America/Denver:20250416T153000
DTEND;TZID=America/Denver:20250416T170000
DTSTAMP:20260422T034847
CREATED:20250310T190433Z
LAST-MODIFIED:20250310T190433Z
UID:3866-1744817400-1744822800@algiersmastudio.com
SUMMARY:After School Music Class - Horns and Percussion Edition
DESCRIPTION:
URL:https://algiersmastudio.com/event/after-school-music-class-horns-and-percussion-edition/
LOCATION:AMAS\, 935 Teche Street\, New Orleans\, LA\, 70114\, United States
ORGANIZER;CN="Algiers Music & Artists Studio":MAILTO:support@algiersmastudio.com
END:VEVENT
BEGIN:VEVENT
DTSTART;TZID=America/Denver:20250423T153000
DTEND;TZID=America/Denver:20250423T170000
DTSTAMP:20260422T034847
CREATED:20250310T190551Z
LAST-MODIFIED:20250310T190551Z
UID:3868-1745422200-1745427600@algiersmastudio.com
SUMMARY:After School Music Class - Horns and Percussion Edition
DESCRIPTION:
URL:https://algiersmastudio.com/event/after-school-music-class-horns-and-percussion-edition-2/
LOCATION:AMAS\, 935 Teche Street\, New Orleans\, LA\, 70114\, United States
ORGANIZER;CN="Algiers Music & Artists Studio":MAILTO:support@algiersmastudio.com
END:VEVENT
BEGIN:VEVENT
DTSTART;TZID=America/Denver:20250426T090000
DTEND;TZID=America/Denver:20250426T100000
DTSTAMP:20260422T034847
CREATED:20250114T202356Z
LAST-MODIFIED:20250114T211710Z
UID:3687-1745658000-1745661600@algiersmastudio.com
SUMMARY:Vibe Check Youth Group for Kids 9-12 Years of Age
DESCRIPTION:The AMAS Foundation and P.I.N.K. Solutions\, PLLC \nPresent \nVibe Check\nToday’s Class \nWhat is Bipolar Disorder?\nWays to Cope\n  \nSignup at: http://eepurl.com/i0r1UM \nAre You Ready to Vibe with Us?  \nWelcome to Vibe Check\, the ultimate youth group designed to empower\, educate\, and elevate young minds. Our mission is to provide a safe and supportive space where youth can explore their emotions\, build resilience\, and develop essential life skills through psychoeducation. \nWhy Join Vibe Check? \n\nEmpowerment: Gain the tools and knowledge to navigate life’s challenges with confidence.\nCommunity: Connect with like-minded peers who share your journey and support each other.\nGrowth: Learn from experienced facilitators who are passionate about youth development.\nFun: Engage in interactive activities\, workshops\, and discussions that make learning enjoyable.\n\nOur Instructor: \nCarmen E. Haskins\, LCSW\, LCSW-C\, CCTP\, CTMH\nCarmen is a Clinical Social Worker Specialist with many years of experience providing mental health services to youth and their families. She graduated with honors in 2010 with a Master of Social Work. Carmen has more than 14 years of diverse experiences\, with a particular focus on healing from trauma and abuse. Populations served include but are not limited to PTSD\, Anxiety\, LGBTQ+\, relationship/marital issues\, depression\, and managing stress. Carmen is the owner of P. I. N. K Solutions where psychoanalytical innovation neutralizes chaos (k). P.I.N.K Solutions’ purpose is to provide rejuvenation to the mind\, body\, and spirit of people in the community. She is available to provide therapy to all ages with the youngest being 5. Carmen is also the author of the self-help book “Secrets Kill: Come out of the Darkness.”  \n 
URL:https://algiersmastudio.com/event/vibe-check-youth-group-for-kids-9-12-years-of-age-7/
LOCATION:AMAS\, 935 Teche Street\, New Orleans\, LA\, 70114\, United States
ORGANIZER;CN="Algiers Music & Artists Studio":MAILTO:support@algiersmastudio.com
END:VEVENT
BEGIN:VEVENT
DTSTART;TZID=America/Denver:20250426T103000
DTEND;TZID=America/Denver:20250426T113000
DTSTAMP:20260422T034847
CREATED:20250114T202516Z
LAST-MODIFIED:20250114T211805Z
UID:3689-1745663400-1745667000@algiersmastudio.com
SUMMARY:Vibe Check Group for Teens 13-17 Years of Age
DESCRIPTION:The AMAS Foundation and P.I.N.K. Solutions\, PLLC \nPresent \nVibe Check\nToday’s Class \nWhat is Bipolar Disorder?\nWays to Cope\n  \nSignup at: http://eepurl.com/i0r1UM \nAre You Ready to Vibe with Us?  \nWelcome to Vibe Check\, the ultimate youth group designed to empower\, educate\, and elevate young minds. Our mission is to provide a safe and supportive space where youth can explore their emotions\, build resilience\, and develop essential life skills through psychoeducation. \nWhy Join Vibe Check? \n\nEmpowerment: Gain the tools and knowledge to navigate life’s challenges with confidence.\nCommunity: Connect with like-minded peers who share your journey and support each other.\nGrowth: Learn from experienced facilitators who are passionate about youth development.\nFun: Engage in interactive activities\, workshops\, and discussions that make learning enjoyable.\n\nOur Instructor: \nCarmen E. Haskins\, LCSW\, LCSW-C\, CCTP\, CTMH\nCarmen is a Clinical Social Worker Specialist with many years of experience providing mental health services to youth and their families. She graduated with honors in 2010 with a Master of Social Work. Carmen has more than 14 years of diverse experiences\, with a particular focus on healing from trauma and abuse. Populations served include but are not limited to PTSD\, Anxiety\, LGBTQ+\, relationship/marital issues\, depression\, and managing stress. Carmen is the owner of P. I. N. K Solutions where psychoanalytical innovation neutralizes chaos (k). P.I.N.K Solutions’ purpose is to provide rejuvenation to the mind\, body\, and spirit of people in the community. She is available to provide therapy to all ages with the youngest being 5. Carmen is also the author of the self-help book “Secrets Kill: Come out of the Darkness.”  \n 
URL:https://algiersmastudio.com/event/vibe-check-group-for-teens-13-17-years-of-age-7/
LOCATION:AMAS\, 935 Teche Street\, New Orleans\, LA\, 70114\, United States
ORGANIZER;CN="Algiers Music & Artists Studio":MAILTO:support@algiersmastudio.com
END:VEVENT
BEGIN:VEVENT
DTSTART;TZID=America/Denver:20250430T153000
DTEND;TZID=America/Denver:20250430T170000
DTSTAMP:20260422T034847
CREATED:20250310T190700Z
LAST-MODIFIED:20250310T190700Z
UID:3870-1746027000-1746032400@algiersmastudio.com
SUMMARY:After School Music Class - Horns and Percussion Edition
DESCRIPTION:
URL:https://algiersmastudio.com/event/after-school-music-class-horns-and-percussion-edition-3/
LOCATION:AMAS\, 935 Teche Street\, New Orleans\, LA\, 70114\, United States
ORGANIZER;CN="Algiers Music & Artists Studio":MAILTO:support@algiersmastudio.com
END:VEVENT
END:VCALENDAR